BEGIN:VCALENDAR
VERSION:2.0
PRODID: -//Q4 Inc.//EN
METHOD:PUBLISH
BEGIN:VTIMEZONE
TZID:America/New_York
X-LIC-LOCATION:America/New_York
BEGIN:DAYLIGHT
TZOFFSETFROM:-0500
TZOFFSETTO:-0400
TZNAME:EDT
DTSTART:19700308T020000
RRULE:FREQ=YEARLY;BYMONTH=3;BYDAY=2SU
END:DAYLIGHT
BEGIN:STANDARD
TZOFFSETFROM:-0400
TZOFFSETTO:-0500
TZNAME:EST
DTSTART:19701101T020000
RRULE:FREQ=YEARLY;BYMONTH=11;BYDAY=1SU
END:STANDARD
END:VTIMEZONE
BEGIN:VEVENT
ORGANIZER:MAILTO:noreply@investors.coty.com
DTSTART;TZID="America/New_York":20210510T080000
DTEND;TZID="America/New_York":20210510T090000
LOCATION:
UID:c20cd272-7dd4-4d09-b0e1-d005e8b33667
DTSTAMP:20260421T033053
SUMMARY:Q3 2021 Coty Inc Earnings Conference Call
DESCRIPTION: View More Information: https://investors.coty.com/news-events-and-presentations/events-and-presentations/event-details/2021/Q3-2021-Coty-Inc-Earnings-Conference-Call/default.aspx
URL;VALUE=URI:https://investors.coty.com/news-events-and-presentations/events-and-presentations/event-details/2021/Q3-2021-Coty-Inc-Earnings-Conference-Call/default.aspx
PRIORITY:5
CLASS:PUBLIC
END:VEVENT
END:VCALENDAR
